BEGIN:VCALENDAR
VERSION:2.0
PRODID:-//InvisionCommunity Events 4.7.21//EN
METHOD:PUBLISH
CALSCALE:GREGORIAN
REFRESH-INTERVAL:PT15M
X-PUBLISHED-TTL:PT15M
X-WR-CALNAME:РФ
NAME:РФ
BEGIN:VTIMEZONE
TZID:Europe/London
TZURL:http://tzurl.org/zoneinfo/Europe/London
X-LIC-LOCATION:Europe/London
BEGIN:DAYLIGHT
TZOFFSETFROM:+0000
TZOFFSETTO:+0100
TZNAME:BST
DTSTART:20230326T020000Z
RRULE:FREQ=YEARLY;BYMONTH=3;BYDAY=-1SU
END:DAYLIGHT
BEGIN:STANDARD
TZOFFSETFROM:+0100
TZOFFSETTO:+0000
TZNAME:GMT
DTSTART:20231029T020000Z
RRULE:FREQ=YEARLY;BYMONTH=10;BYDAY=-1SU
END:STANDARD
END:VTIMEZONE
BEGIN:VEVENT
SUMMARY:30-я Всер
	оссийск
	ая научн
	о-техниче
	ская конф
	еренция с междун
	ародным участием «Вакуумная техни
	ка и технологии – 2023»
DTSTAMP:20230405T161856Z
SEQUENCE:0
UID:103-1-e08d481f17a1d09b80b7ac7ad3568c7a@metrologu.ru
ORGANIZER;CN="AnastasiaBudko":mail@metrologu.ru
DESCRIPTION:\n	ВНИИМ им. Д
	.И. Менделеева
	 (Росстандарт
	) сообщает о 
	проведении
	 30-й Всеро
	ссийской
	 конференци
	и с международны
	м участием «Вак
	уумная техника и
	 технологии». В 2023 го
	ду юбилейное мероп
	риятие пройдет с 2
	0 по 22 июня в С
	анкт-Петер
	бурге. На 
	протяже
	нии долг
	их лет кон
	ференция 
	выступает
	 как автор
	итетная ди
	скуссионна
	я площадка\
	, призванн
	ая обеспе
	чить обмен
	 мнениями 
	по самому
	 широкому 
	спектру а
	ктуальных 
	вопросов в
	 области ва
	куумной т
	ехники и 
	технолог
	ий – одной
	 из самых 
	передовых
	 и высоко
	технологи
	чных отрас
	лей России.
	 Секционна
	я работа буд
	ет охватыва
	ть три осн
	овных напра
	вления: «Ва
	куумная техника
	»\, «Контроль герме
	тичности»\, «Ваку
	умные технологи
	и».\n\n\n\n	Разр
	аботки 
	ВНИИМ б
	удут п
	редст
	авлены
	 специа
	листами
	 научно-
	исследо
	вательск
	ого отдел
	а государ
	ственных
	 эталонов
	 в области
	 измерени
	й давлени
	я и лабора
	тории гос
	ударствен
	ных этало
	нов и нау
	чных исс
	ледований в обл
	асти измерений 
	низкого абсолют
	ного давления ва
	куума.\n\n\n\n	
	Дополнительная информация 
	по регистрации на сайте конференции.\n\n
DTSTART:20230619T190000Z
DTEND:20230621T190000Z
END:VEVENT
END:VCALENDAR
