BEGIN:VCALENDAR
VERSION:2.0
PRODID:-//InvisionCommunity Events 4.7.21//EN
METHOD:PUBLISH
CALSCALE:GREGORIAN
REFRESH-INTERVAL:PT15M
X-PUBLISHED-TTL:PT15M
X-WR-CALNAME:РФ
NAME:РФ
BEGIN:VTIMEZONE
TZID:Europe/London
TZURL:http://tzurl.org/zoneinfo/Europe/London
X-LIC-LOCATION:Europe/London
BEGIN:DAYLIGHT
TZOFFSETFROM:+0000
TZOFFSETTO:+0100
TZNAME:BST
DTSTART:20250330T020000Z
RRULE:FREQ=YEARLY;BYMONTH=3;BYDAY=-1SU
END:DAYLIGHT
BEGIN:STANDARD
TZOFFSETFROM:+0100
TZOFFSETTO:+0000
TZNAME:GMT
DTSTART:20251026T020000Z
RRULE:FREQ=YEARLY;BYMONTH=10;BYDAY=-1SU
END:STANDARD
END:VTIMEZONE
BEGIN:VEVENT
SUMMARY:Междун
	ародный метрологический фор
	ум и выставка «Метрология без границ»
DTSTAMP:20250306T155754Z
SEQUENCE:0
UID:115-1-e08d481f17a1d09b80b7ac7ad3568c7a@metrologu.ru
ORGANIZER;CN="AnastasiaBudko":mail@metrologu.ru
DESCRIPTION:\n	В соо
	тветстви
	и с распоряж
	ениями Правительс
	тва Российской Федераци
	и от 5 апреля 2014 года № 54
	1-р и от 19 августа 2
	022 года № 233
	6-р Федера
	льным аге
	нтством п
	о технич
	ескому р
	егулиров
	анию и м
	етрологи
	и (Росст
	андарт)
	 ведетс
	я подг
	отовка
	 к про
	ведению
	 Междун
	ародного
	 метроло
	гическог
	о форума и в
	ыставки «Ме
	трология б
	ез границ» 
	(далее — Форум
	 и выставка)\, приуроченных
	 к Всемирному дню метроло
	гии.\n\n\n\n	\n		\n			Форум и в
	ыставка состоятся 
	в период с 19 по 21
	 мая 2025 год
	а в г. Мос
	кве в Ко
	нгресс-ц
	ентре Це
	нтра меж
	дународ
	ной торг
	овли и 
	выступя
	т главно
	й площа
	дкой д
	ля дем
	онстр
	ации 
	дости
	жений
	 и воз
	можнос
	тей росс
	ийских п
	риборост
	роителей
	 и произв
	одителей 
	средств и
	змерений\, 
	обсуждени
	я ключевых 
	вопросов 
	обеспечен
	ия единст
	ва измерени
	й\, обмена 
	опытом 
	между п
	редстав
	ителями
	 промышленно
	сти\, производителями и
	змерительной техники и
	 метрологами.\n		\n	\n
	\n\n\n	В работ
	е Форум
	а и выс
	тавки 
	заплан
	ировано 
	участие 
	представ
	ителей ф
	едеральн
	ых орган
	ов испол
	нительн
	ой власти\
	, междун
	ародных
	 и реги
	ональны
	х метро
	логичес
	ких орг
	анизаци
	й\, гос
	ударс
	твенны
	х метр
	ологиче
	ских инс
	титутов
	 и госуд
	арственн
	ых регион
	альных ц
	ентров м
	етрологи
	и\, госу
	дарств
	енных 
	корпор
	аций и
	 ведущ
	их пре
	дприя
	тий ро
	ссийс
	кой пр
	омышл
	еннос
	ти по
	став
	щиков и 
	заказчиков измерительн
	ого оборудования и метрологических раб
	от.\n\n
DTSTART:20250518T190000Z
DTEND:20250520T190000Z
END:VEVENT
END:VCALENDAR
