BEGIN:VCALENDAR
VERSION:2.0
PRODID:-//InvisionCommunity Events 4.7.21//EN
METHOD:PUBLISH
CALSCALE:GREGORIAN
REFRESH-INTERVAL:PT15M
X-PUBLISHED-TTL:PT15M
X-WR-CALNAME:РФ
NAME:РФ
BEGIN:VTIMEZONE
TZID:Europe/London
TZURL:http://tzurl.org/zoneinfo/Europe/London
X-LIC-LOCATION:Europe/London
BEGIN:DAYLIGHT
TZOFFSETFROM:+0000
TZOFFSETTO:+0100
TZNAME:BST
DTSTART:20250330T020000Z
RRULE:FREQ=YEARLY;BYMONTH=3;BYDAY=-1SU
END:DAYLIGHT
BEGIN:STANDARD
TZOFFSETFROM:+0100
TZOFFSETTO:+0000
TZNAME:GMT
DTSTART:20251026T020000Z
RRULE:FREQ=YEARLY;BYMONTH=10;BYDAY=-1SU
END:STANDARD
END:VTIMEZONE
BEGIN:VEVENT
SUMMARY:Обучени
	е по про
	грамме повышен
	ия квалификации по теме «Электромагни
	тная совместимость»
DTSTAMP:20250504T151003Z
SEQUENCE:0
UID:119-1-e08d481f17a1d09b80b7ac7ad3568c7a@metrologu.ru
ORGANIZER;CN="AnastasiaBudko":mail@metrologu.ru
DESCRIPTION:\n	Приглаш
	аем Вас пр
	инять уча
	стие в к
	урсах пов
	ышения кв
	алификац
	ии по тем
	е «Элек
	тромагн
	итная со
	вместим
	ость»\, 
	прово
	димые 
	Федер
	альны
	м госу
	дарст
	венны
	м авт
	ономн
	ым об
	разо
	вате
	льным
	 учре
	жден
	ием 
	дополн
	ительн
	ого проф
	ессиона
	льного об
	разования 
	«Академия с
	тандартизаци
	и\, метрологи
	и и сертифи
	кации (уче
	бная)» на
	 базово
	й кафедр
	е «Совр
	еменные 
	методы у
	правлен
	ия метро
	логическ
	им обесп
	ечением 
	и испыта
	ниями» 
	на базе
	 метрол
	огичес
	кого к
	омплек
	са Феде
	ральног
	о бюдже
	тного у
	чрежде
	ния «Науч
	но-исследов
	ательский цен
	тр прикладной метролог
	ии – Ростест» (ФБУ «НИЦ
	 ПМ - Ростест»).\n\n\
	n\n	В рамках курсов бу
	дут рассмотрены с
	ледующие вопросы:
	 \n\n\n\n		Пробле
	ма электр
	омагнитно
	й совмест
	имости. Задачи о
	беспечения ЭМС. П
	омехоэмиссия и по
	мехоустойчивость
	.\n	\n	\n		Нормативная
	 база в области эле
	ктромагнитной со
	вместимости.\n	\n
		\n		Методы и схемы
	 сертификации п
	родукции по тре
	бованиям ТР ТС 0
	20. Требовани
	я и применение ст
	андартов в области 
	ЭМС к продукции р
	азличного типа.
	\n	\n	\n		Задача
	 обеспече
	ния элек
	тромагни
	тной сов
	местимос
	ти. Основные и
	сточники и пути р
	аспространения 
	электромагнитны
	х помех.\n	\n	\n
			Основные
	 методы 
	обеспече
	ния элект
	ромагнитной совме
	стимости. Фильтрац
	ия. Заземление. Экр
	анирование.\n	\n	\n		Основы
	 измерения и оценк
	и радиопомех.\n	\n
		\n		Общие ус
	ловия про
	ведения 
	испытаний. Изм
	ерение помехоэми
	ссии. Испытания 
	на помехоустойчи
	вость.\n	\n	\n		
	Метролог
	ическое обеспече
	ние испытаний на
	 электромагнитну
	ю совместимость
	.\n	\n	\n		Провед
	ение пр
	едвари
	тельных 
	и предс
	ертифик
	ационны
	х испыта
	ний на соответс
	твие требованиям
	 по электромагни
	тной совместимос
	ти.\n	\n	\n		Осо
	беннос
	ти пров
	едения 
	испытан
	ий на эл
	ектром
	агнитную
	 совмести
	мость те
	хнически
	х средств дл
	я атомных электр
	останций и проду
	кции оборонного
	 назначения.\n	\
	n\n	Особое в
	нимание 
	будет уд
	елено пра
	ктической
	 части про
	ведения 
	испытани
	й с расс
	мотрени
	ем приме
	ров на ба
	зе оборудо
	вания действующ
	ей аккредитованной л
	аборатории ФБУ «НИЦ ПМ - 
	Ростест». \n\n\n\n	Объем про
	граммы – 36 часов. 
	\n\n\n\n	По окончани
	ю выдается удостоверение о пов
	ышении квалификации. \n \n\n\n\n	
	 \n\n\n\n	 Сроки проведения курсов: 19 – 23 мая
	 2025 г. \n \n\n\n\n	 \n\n\n\n	 Место пр
	оведения: г. Москва\, Нахимовский п-т\, 
	д. 31 \n \n\n\n\n	 \n\n\n\n	 Стоимость – 4
	2500 руб. (НДС не облагается) за 1 участ
	ника. \n \n\n\n\n	 \n\n\n\n	 Заявки присылать на e-ma
	il: OlgaVF@rostest.ru\n\n\n\n	По во
	просам проведения обуче
	ния можно обращаться по теле
	фонам: \n+7 (495) 240-25-7
	4 Фимина Ол
	ьга Владимировна – 
	заключение договора\, оформл
	ение документов\; \n+7 (495
	) 668-29-56 Чеботарев
	 Станислав Николаевич – организ
	ационные вопросы. \n\n
DTSTART:20250518T190000Z
DTEND:20250522T190000Z
END:VEVENT
END:VCALENDAR
