BEGIN:VCALENDAR
VERSION:2.0
PRODID:-//InvisionCommunity Events 4.7.21//EN
METHOD:PUBLISH
CALSCALE:GREGORIAN
REFRESH-INTERVAL:PT15M
X-PUBLISHED-TTL:PT15M
X-WR-CALNAME:РФ
NAME:РФ
BEGIN:VTIMEZONE
TZID:Europe/London
TZURL:http://tzurl.org/zoneinfo/Europe/London
X-LIC-LOCATION:Europe/London
BEGIN:DAYLIGHT
TZOFFSETFROM:+0000
TZOFFSETTO:+0100
TZNAME:BST
DTSTART:20260329T020000Z
RRULE:FREQ=YEARLY;BYMONTH=3;BYDAY=-1SU
END:DAYLIGHT
BEGIN:STANDARD
TZOFFSETFROM:+0100
TZOFFSETTO:+0000
TZNAME:GMT
DTSTART:20261025T020000Z
RRULE:FREQ=YEARLY;BYMONTH=10;BYDAY=-1SU
END:STANDARD
END:VTIMEZONE
BEGIN:VEVENT
SUMMARY:Научно
	-практи
	ческий 
	семинар «Мет
	рологическое обеспечение в области 
	неразрушающего контроля»
DTSTAMP:20260401T175955Z
SEQUENCE:0
UID:167-1-e08d481f17a1d09b80b7ac7ad3568c7a@metrologu.ru
ORGANIZER;CN="Дарья Якимкина":mail@metrologu.ru
DESCRIPTION:\n	ФГУП «В
	НИИФТРИ»
	 проводит
	 2-й Все
	российс
	кий науч
	но-прак
	тически
	й семина
	р «Метро
	логическ
	ое обеспе
	чение в 
	области
	 неразр
	ушающего
	 контроля
	». Мероп
	риятие 
	посвящ
	ено сове
	ршенствов
	анию средс
	тв и метод
	ов метрол
	огическог
	о обеспече
	ния в одной из
	 ключевых сфер к
	онтроля качеств
	а промышленной п
	родукции.\n\n\
	n\n	Органи
	затор: 
	ФГУП «В
	серосси
	йский н
	аучно-и
	сследо
	вательск
	ий институт 
	физико-технических
	 и радиотехнических
	 измерений» (ВНИИФТР
	И).\n\n\n\n	В рабо
	те семинар
	а примут 
	участие в
	едущие с
	пециалис
	ты предпр
	иятий и о
	рганизац
	ий: разраб
	отчиков и
	 эксплуа
	тантов с
	редств н
	еразруш
	ающего к
	онтроля
	\, предста
	вители г
	осударст
	венных н
	аучных ме
	трологич
	еских инстит
	утов\, регион
	альных цент
	ров метрол
	огии и станд
	артизации\, а такж
	е ведущих технич
	еских университ
	етов страны.\n\n\n\n
		Программа семинара
	 охватывает актуаль
	ные вопросы:\n\n\n\n
		\n		обеспече
	ние единст
	ва измерений
	 в области неразруша
	ющего контроля: состо
	яние и перспективы\;\
	n	\n	\n		правовая
	\, нормативная и тех
	ническая база мет
	рологического обесп
	ечения\;\n	\n	\n		разв
	итие эталонн
	ой базы\, раз
	работка ме
	р и методик
	 (включая р
	еферентны
	е методики
	 для контр
	оля констру
	кций из композитов и
	 созданных методом
	 аддитивных технол
	огий)\;\n	\n	\n		м
	етролог
	ическое
	 обеспеч
	ение из
	мерений пори
	стости и степени п
	олимеризации комп
	озиционных материа
	лов\;\n	\n	\n		нов
	ые разработки и
	 импортозамещение в
	 области неразрушаю
	щего контроля.\n	\
	n\n\n\n	Семинар
	 ориентиро
	ван на сп
	ециалист
	ов авиаци
	онной и ко
	смической 
	промышленн
	ости\, железн
	одорожного тр
	анспорта\, те
	пловой и ато
	мной энерге
	тики\, пре
	дприятий
	\, разрабат
	ывающих и п
	рименяющи
	х современ
	ные констр
	укционные 
	материалы\
	, а также на 
	представителей научно-исследоват
	ельских институтов и вузов.\n\n
DTSTART:20260413T190000Z
DTEND:20260415T190000Z
END:VEVENT
END:VCALENDAR
