BEGIN:VCALENDAR
VERSION:2.0
PRODID:-//InvisionCommunity Events 4.7.21//EN
METHOD:PUBLISH
CALSCALE:GREGORIAN
REFRESH-INTERVAL:PT15M
X-PUBLISHED-TTL:PT15M
X-WR-CALNAME:РФ
NAME:РФ
BEGIN:VTIMEZONE
TZID:Europe/London
TZURL:http://tzurl.org/zoneinfo/Europe/London
X-LIC-LOCATION:Europe/London
BEGIN:DAYLIGHT
TZOFFSETFROM:+0000
TZOFFSETTO:+0100
TZNAME:BST
DTSTART:20260329T020000Z
RRULE:FREQ=YEARLY;BYMONTH=3;BYDAY=-1SU
END:DAYLIGHT
BEGIN:STANDARD
TZOFFSETFROM:+0100
TZOFFSETTO:+0000
TZNAME:GMT
DTSTART:20261025T020000Z
RRULE:FREQ=YEARLY;BYMONTH=10;BYDAY=-1SU
END:STANDARD
END:VTIMEZONE
BEGIN:VEVENT
SUMMARY:18-я меж
	дународная специализированная выставк
	а «Композит-Экспо 2026»
DTSTAMP:20260403T112404Z
SEQUENCE:0
UID:169-1-e08d481f17a1d09b80b7ac7ad3568c7a@metrologu.ru
ORGANIZER;CN="Дарья Якимкина":mail@metrologu.ru
DESCRIPTION:\n	Межд
	ународн
	ая спец
	иализир
	ованная 
	выставка «
	Композит-
	Экспо» яв
	ляется кл
	ючевой отра
	слевой пло
	щадкой Росс
	ии\, посвяще
	нной компо
	зитным мат
	ериалам\, т
	ехнология
	м их прои
	зводства
	 и оборуд
	ованию 
	для пере
	работки
	. Меропр
	иятие спо
	собствует
	 развитию 
	производс
	твенных и э
	кономическ
	их связей\, о
	бмену научно-тех
	нической информа
	цией и внедрению иннов
	аций.\n\n\n\n	Основные напра
	вления экспозиции:\n\n\n\
	n	\n		Сырье и компонен
	ты: смолы\, наполнители\,
	 добавки\, модификато
	ры\, стеклоткани.\n
		\n	\n		Оборудов
	ание и техно
	логии: техно
	логическое о
	борудование\
	, оснастка\,
	 инструмен
	т для обра
	ботки\, технологи
	и производства ма
	териалов с заданным
	и свойствами.\n	\n	
	\n		Готовые из
	делия и пр
	именения: пр
	омышленные
	 изделия из стек
	лопластика\, ис
	кусственного к
	амня\, полимербетона\, Д
	ПК\, решения для стро
	ительства и ЖКХ.\n	\
	n	\n		Сопутству
	ющие решения
	: системы кре
	пления\, тех
	нологии об
	работки пов
	ерхности\, оборудован
	ие и сырье для произ
	водства полиуретано
	в.\n	\n\n\n\n	Выставк
	а традицион
	но проводитс
	я в Москве\,
	 привлекая
	 участнико
	в и специал
	истов из р
	азличных 
	регионов
	 России и
	 зарубеж
	ных стр
	ан. Пар
	аллель
	но пров
	одятся
	 специа
	лизиро
	ванные выс
	тавки поли
	уретановых
	 материалов
	 и инновационны
	х технологий\, а та
	кже научно-практ
	ическая конференц
	ия.\n\n\n\n	Подро
	бная инфор
	мация о мероприятии и поря
	дке проведения представлена на сайте.\n\n
DTSTART:20260421T190000Z
DTEND:20260423T190000Z
END:VEVENT
END:VCALENDAR
