BEGIN:VCALENDAR
VERSION:2.0
PRODID:-//InvisionCommunity Events 4.7.21//EN
METHOD:PUBLISH
CALSCALE:GREGORIAN
REFRESH-INTERVAL:PT15M
X-PUBLISHED-TTL:PT15M
X-WR-CALNAME:РФ
NAME:РФ
BEGIN:VTIMEZONE
TZID:Europe/London
TZURL:http://tzurl.org/zoneinfo/Europe/London
X-LIC-LOCATION:Europe/London
BEGIN:DAYLIGHT
TZOFFSETFROM:+0000
TZOFFSETTO:+0100
TZNAME:BST
DTSTART:20260329T020000Z
RRULE:FREQ=YEARLY;BYMONTH=3;BYDAY=-1SU
END:DAYLIGHT
BEGIN:STANDARD
TZOFFSETFROM:+0100
TZOFFSETTO:+0000
TZNAME:GMT
DTSTART:20261025T020000Z
RRULE:FREQ=YEARLY;BYMONTH=10;BYDAY=-1SU
END:STANDARD
END:VTIMEZONE
BEGIN:VEVENT
SUMMARY:IV все
	росси
	йская к
	онференция Метрологи
	ческого образовательного кластера
	 Росстандарта
DTSTAMP:20260403T113018Z
SEQUENCE:0
UID:170-1-e08d481f17a1d09b80b7ac7ad3568c7a@metrologu.ru
ORGANIZER;CN="Дарья Якимкина":mail@metrologu.ru
DESCRIPTION:\n	Основн
	ая тема к
	онференции
	 – бесшовная
	 профориентац
	ия от детского
	 сада через шко
	лы\, колледжи
	 и вузы до п
	редприятий
	 и научных и
	нститутов.
	 Мероприяти
	е станет пло
	щадкой для
	 обмена опыт
	ом по знако
	мству детей 
	с метролог
	ией и стан
	дартизаци
	ей\, профор
	иентации 
	школьник
	ов\, метр
	ологическом
	у образованию ст
	удентов и разви
	тию компетенций сотруднико
	в.\n\n\n\n	Организаторы конф
	еренции:\n\n\n\n	\n
			Федераль
	ное агентство
	 по техническому ре
	гулированию и метрол
	огии (Росстандарт)\n	\n	\n	
		ФБУ «Волгоградский ЦСМ»\n	\
	n	\n		ФГУП «ВНИИМ им. Д.
	И. Менделеева»\n	\n	\n	
		Волгоградский го
	сударственный унив
	ерситет\n	\n\n\n\n	В
	 программе
	 запланирова
	ны доклады о н
	овых практиках 
	и методиках от 
	педагогов со 
	всей России\
	, мастер-к
	лассы\, з
	накомст
	во с Волго
	градским г
	осударств
	енным униве
	рситетом и п
	редприятиями города
	\, а также неформальн
	ое общение и обмен о
	пытом.\n\n\n\n	Уч
	астие в ко
	нференции бе
	сплатное\, обязате
	льна предваритель
	ная регистрация (с
	сылка).\n\n\n\n	Кон
	тактное ли
	цо: Волошин 
	Алексей Сер
	геевич\, гл
	авный мет
	ролог ФБ
	У «Волго
	градский
	 ЦСМ»\, 
	коорди
	натор 
	метрол
	огическ
	ого образовательн
	ого кластера Росстандарта в Во
	лгоградской области.\n\n
DTSTART:20260420T190000Z
DTEND:20260422T190000Z
END:VEVENT
END:VCALENDAR
