BEGIN:VCALENDAR
VERSION:2.0
PRODID:-//InvisionCommunity Events 4.7.21//EN
METHOD:PUBLISH
CALSCALE:GREGORIAN
REFRESH-INTERVAL:PT15M
X-PUBLISHED-TTL:PT15M
X-WR-CALNAME:РФ
NAME:РФ
BEGIN:VTIMEZONE
TZID:Europe/London
TZURL:http://tzurl.org/zoneinfo/Europe/London
X-LIC-LOCATION:Europe/London
BEGIN:DAYLIGHT
TZOFFSETFROM:+0000
TZOFFSETTO:+0100
TZNAME:BST
DTSTART:20220327T020000Z
RRULE:FREQ=YEARLY;BYMONTH=3;BYDAY=-1SU
END:DAYLIGHT
BEGIN:STANDARD
TZOFFSETFROM:+0100
TZOFFSETTO:+0000
TZNAME:GMT
DTSTART:20221030T020000Z
RRULE:FREQ=YEARLY;BYMONTH=10;BYDAY=-1SU
END:STANDARD
END:VTIMEZONE
BEGIN:VEVENT
SUMMARY:Метро
	логическое обеспечение весоизмеритель
	ной техники «ВЕСЫ-2022»
DTSTAMP:20220903T145618Z
SEQUENCE:0
UID:96-1-e08d481f17a1d09b80b7ac7ad3568c7a@metrologu.ru
ORGANIZER;CN="AnastasiaBudko":mail@metrologu.ru
DESCRIPTION:\n	Прогр
	аммой 
	конфер
	енции п
	редусм
	отрены
	 доклад
	ы ведущ
	их специ
	алистов 
	государс
	твенных 
	научных м
	етрологич
	еских инсти
	тутов\, регио
	нальных цен
	тров станд
	артизации\
	, метролог
	ий и испыт
	аний\, ме
	жрегион
	альных 
	территор
	иальных 
	управлений
	 Росстандар
	та\, предст
	авителей пр
	едприятий и
	 организаци
	й - разработчиков
	 и пользователей ве
	со- и силоизмерит
	ельной техники.\n\n\n\n	Организа
	тор: ФГБУ «ВНИИМС» Росстандарта\n\n
DTSTART:20221008T190000Z
DTEND:20221013T190000Z
END:VEVENT
END:VCALENDAR
